BEGIN:VCALENDAR
VERSION:2.0
PRODID:-//hacksw/handcal//NONSGML v1.0//EN
BEGIN:VEVENT
SUMMARY:Montmerle Sur Saone
UID:12c93ca9-c30b-47c6-a31e-1e69c0d68be8
DTSTART:20260409T220000Z
DTEND:20260412T220000Z
LOCATION:Localisation   
CATEGORIES:Sportif
STATUS:
URL;VALUE=URI:https://archers-ansois.sportsregions.fr/evenements/2026/04/10/montmerle-sur-saone-2440763
END:VEVENT
END:VCALENDAR
