BEGIN:VCALENDAR
VERSION:2.0
PRODID:-//hacksw/handcal//NONSGML v1.0//EN
BEGIN:VEVENT
SUMMARY:Macon
UID:0ed42e1b-5a0a-47c3-bb0c-6445b1c79f45
DTSTART:20260417T220000Z
DTEND:20260419T220000Z
LOCATION:Localisation   
CATEGORIES:Sportif
STATUS:
URL;VALUE=URI:https://archers-ansois.sportsregions.fr/evenements/2026/04/18/macon-2443245
END:VEVENT
END:VCALENDAR
